{
 "currentVersion": 10.41,
 "serviceDescription": "Services/Aerial_Photo_2017_Skagit_4inch",
 "name": "Services/Aerial_Photo_2017_Skagit_4inch",
 "description": "Services/Aerial_Photo_2017_Skagit_4inch",
 "extent": {
  "xmin": 1186792.6666666649,
  "ymin": 499851.667320735,
  "xmax": 1314538.3320558749,
  "ymax": 565258.999999995,
  "spatialReference": {
   "wkt": "PROJCS[\"NAD_1983_Washington_North_ftUS\",GEOGCS[\"GCS_North_American_1983\",DATUM[\"D_North_American_1983\",SPHEROID[\"GRS_1980\",6378137.0,298.257222101]],PRIMEM[\"Greenwich\",0.0],UNIT[\"Degree\",0.0174532925199433]],PROJECTION[\"Lambert_Conformal_Conic\"],PARAMETER[\"false_easting\",1640416.667],PARAMETER[\"false_northing\",0.0],PARAMETER[\"central_meridian\",-120.8333333333333],PARAMETER[\"standard_parallel_1\",47.5],PARAMETER[\"standard_parallel_2\",48.73333333333333],PARAMETER[\"latitude_of_origin\",47.0],UNIT[\"Foot_US\",0.3048006096012192]]"
  }
 },
 "initialExtent": {
  "xmin": 1186792.6666666649,
  "ymin": 499851.667320735,
  "xmax": 1314538.3320558749,
  "ymax": 565258.999999995,
  "spatialReference": {
   "wkt": "PROJCS[\"NAD_1983_Washington_North_ftUS\",GEOGCS[\"GCS_North_American_1983\",DATUM[\"D_North_American_1983\",SPHEROID[\"GRS_1980\",6378137.0,298.257222101]],PRIMEM[\"Greenwich\",0.0],UNIT[\"Degree\",0.0174532925199433]],PROJECTION[\"Lambert_Conformal_Conic\"],PARAMETER[\"false_easting\",1640416.667],PARAMETER[\"false_northing\",0.0],PARAMETER[\"central_meridian\",-120.8333333333333],PARAMETER[\"standard_parallel_1\",47.5],PARAMETER[\"standard_parallel_2\",48.73333333333333],PARAMETER[\"latitude_of_origin\",47.0],UNIT[\"Foot_US\",0.3048006096012192]]"
  }
 },
 "fullExtent": {
  "xmin": 1186792.6666666649,
  "ymin": 499851.667320735,
  "xmax": 1314538.3320558749,
  "ymax": 565258.999999995,
  "spatialReference": {
   "wkt": "PROJCS[\"NAD_1983_Washington_North_ftUS\",GEOGCS[\"GCS_North_American_1983\",DATUM[\"D_North_American_1983\",SPHEROID[\"GRS_1980\",6378137.0,298.257222101]],PRIMEM[\"Greenwich\",0.0],UNIT[\"Degree\",0.0174532925199433]],PROJECTION[\"Lambert_Conformal_Conic\"],PARAMETER[\"false_easting\",1640416.667],PARAMETER[\"false_northing\",0.0],PARAMETER[\"central_meridian\",-120.8333333333333],PARAMETER[\"standard_parallel_1\",47.5],PARAMETER[\"standard_parallel_2\",48.73333333333333],PARAMETER[\"latitude_of_origin\",47.0],UNIT[\"Foot_US\",0.3048006096012192]]"
  }
 },
 "pixelSizeX": 0.33333333,
 "pixelSizeY": 0.33333333,
 "bandCount": 4,
 "pixelType": "U8",
 "minPixelSize": 0,
 "maxPixelSize": 0,
 "copyrightText": "",
 "serviceDataType": "esriImageServiceDataTypeGeneric",
 "minValues": [
  0,
  0,
  0,
  0
 ],
 "maxValues": [
  248,
  231,
  183,
  255
 ],
 "meanValues": [
  52.996675531914896,
  55.358377659574465,
  39.41422872340426,
  110.7019060283688
 ],
 "stdvValues": [
  62.55610061987172,
  63.81853412389399,
  46.70509469253291,
  124.17939870905698
 ],
 "objectIdField": "",
 "fields": [],
 "capabilities": "Mensuration,Image,Metadata",
 "defaultMosaicMethod": "Center",
 "allowedMosaicMethods": "",
 "sortField": "",
 "sortValue": null,
 "mosaicOperator": "First",
 "defaultCompressionQuality": 75,
 "defaultResamplingMethod": "Bilinear",
 "maxImageHeight": 4100,
 "maxImageWidth": 15000,
 "allowRasterFunction": true,
 "rasterFunctionInfos": [],
 "rasterTypeInfos": [
  {
   "name": "Raster Dataset",
   "description": "Supports all ArcGIS Raster Datasets",
   "help": ""
  }
 ],
 "mensurationCapabilities": "Basic",
 "hasHistograms": true,
 "hasColormap": false,
 "hasRasterAttributeTable": false,
 "minScale": 0,
 "maxScale": 0,
 "exportTilesAllowed": false,
 "hasMultidimensions": false,
 "supportsStatistics": false,
 "supportsAdvancedQueries": false,
 "editFieldsInfo": null,
 "ownershipBasedAccessControlForRasters": null,
 "allowComputeTiePoints": false,
 "useStandardizedQueries": true,
 "advancedQueryCapabilities": {
  "useStandardizedQueries": true,
  "supportsStatistics": false,
  "supportsOrderBy": false,
  "supportsDistinct": false,
  "supportsPagination": false
 },
 "spatialReference": {
  "wkt": "PROJCS[\"NAD_1983_Washington_North_ftUS\",GEOGCS[\"GCS_North_American_1983\",DATUM[\"D_North_American_1983\",SPHEROID[\"GRS_1980\",6378137.0,298.257222101]],PRIMEM[\"Greenwich\",0.0],UNIT[\"Degree\",0.0174532925199433]],PROJECTION[\"Lambert_Conformal_Conic\"],PARAMETER[\"false_easting\",1640416.667],PARAMETER[\"false_northing\",0.0],PARAMETER[\"central_meridian\",-120.8333333333333],PARAMETER[\"standard_parallel_1\",47.5],PARAMETER[\"standard_parallel_2\",48.73333333333333],PARAMETER[\"latitude_of_origin\",47.0],UNIT[\"Foot_US\",0.3048006096012192]]"
 }
}
