{
 "currentVersion": 10.41,
 "serviceDescription": "4-inch resolution 2019 aerial imagery collected by Pictometry",
 "name": "Services/Aerial_Photo_2019_Skagit_4inch",
 "description": "4-inch resolution 2019 aerial imagery collected by Pictometry",
 "extent": {
  "xmin": 1186792.5479874,
  "ymin": 499851.6166815,
  "xmax": 1314538.5352128001,
  "ymax": 565258.9434741,
  "spatialReference": {
   "wkt": "PROJCS[\"NAD_1983_2011_Washington_North_ftUS\",GEOGCS[\"GCS_NAD83_2011\",DATUM[\"D_NAD_1983_2011\",SPHEROID[\"GRS_1980\",6378137.0,298.257222101]],PRIMEM[\"Greenwich\",0.0],UNIT[\"Degree\",0.0174532925199433]],PROJECTION[\"Lambert_Conformal_Conic\"],PARAMETER[\"false_easting\",1640416.667],PARAMETER[\"false_northing\",0.0],PARAMETER[\"central_meridian\",-120.8333333333333],PARAMETER[\"standard_parallel_1\",47.5],PARAMETER[\"standard_parallel_2\",48.73333333333333],PARAMETER[\"latitude_of_origin\",47.0],UNIT[\"Foot_US\",0.3048006096012192]]"
  }
 },
 "initialExtent": {
  "xmin": 1186792.5479874,
  "ymin": 499851.6166815,
  "xmax": 1314538.5352128001,
  "ymax": 565258.9434741,
  "spatialReference": {
   "wkt": "PROJCS[\"NAD_1983_2011_Washington_North_ftUS\",GEOGCS[\"GCS_NAD83_2011\",DATUM[\"D_NAD_1983_2011\",SPHEROID[\"GRS_1980\",6378137.0,298.257222101]],PRIMEM[\"Greenwich\",0.0],UNIT[\"Degree\",0.0174532925199433]],PROJECTION[\"Lambert_Conformal_Conic\"],PARAMETER[\"false_easting\",1640416.667],PARAMETER[\"false_northing\",0.0],PARAMETER[\"central_meridian\",-120.8333333333333],PARAMETER[\"standard_parallel_1\",47.5],PARAMETER[\"standard_parallel_2\",48.73333333333333],PARAMETER[\"latitude_of_origin\",47.0],UNIT[\"Foot_US\",0.3048006096012192]]"
  }
 },
 "fullExtent": {
  "xmin": 1186792.5479874,
  "ymin": 499851.6166815,
  "xmax": 1314538.5352128001,
  "ymax": 565258.9434741,
  "spatialReference": {
   "wkt": "PROJCS[\"NAD_1983_2011_Washington_North_ftUS\",GEOGCS[\"GCS_NAD83_2011\",DATUM[\"D_NAD_1983_2011\",SPHEROID[\"GRS_1980\",6378137.0,298.257222101]],PRIMEM[\"Greenwich\",0.0],UNIT[\"Degree\",0.0174532925199433]],PROJECTION[\"Lambert_Conformal_Conic\"],PARAMETER[\"false_easting\",1640416.667],PARAMETER[\"false_northing\",0.0],PARAMETER[\"central_meridian\",-120.8333333333333],PARAMETER[\"standard_parallel_1\",47.5],PARAMETER[\"standard_parallel_2\",48.73333333333333],PARAMETER[\"latitude_of_origin\",47.0],UNIT[\"Foot_US\",0.3048006096012192]]"
  }
 },
 "pixelSizeX": 0.3333333000000001,
 "pixelSizeY": 0.3333332999999999,
 "bandCount": 4,
 "pixelType": "U8",
 "minPixelSize": 0,
 "maxPixelSize": 0,
 "copyrightText": "",
 "serviceDataType": "esriImageServiceDataTypeGeneric",
 "minValues": [
  0,
  0,
  0,
  0
 ],
 "maxValues": [
  254,
  229,
  202,
  255
 ],
 "meanValues": [
  51.31892730496454,
  53.73027482269504,
  41.437278368794324,
  110.7001329787234
 ],
 "stdvValues": [
  61.40898829882142,
  62.23442288593788,
  48.77253127664926,
  124.1799584250631
 ],
 "objectIdField": "",
 "fields": [],
 "capabilities": "Mensuration,Image,Metadata",
 "defaultMosaicMethod": "Center",
 "allowedMosaicMethods": "",
 "sortField": "",
 "sortValue": null,
 "mosaicOperator": "First",
 "defaultCompressionQuality": 75,
 "defaultResamplingMethod": "Bilinear",
 "maxImageHeight": 4100,
 "maxImageWidth": 15000,
 "allowRasterFunction": true,
 "rasterFunctionInfos": [],
 "rasterTypeInfos": [
  {
   "name": "Raster Dataset",
   "description": "Supports all ArcGIS Raster Datasets",
   "help": ""
  }
 ],
 "mensurationCapabilities": "Basic",
 "hasHistograms": true,
 "hasColormap": false,
 "hasRasterAttributeTable": false,
 "minScale": 0,
 "maxScale": 0,
 "exportTilesAllowed": false,
 "hasMultidimensions": false,
 "supportsStatistics": false,
 "supportsAdvancedQueries": false,
 "editFieldsInfo": null,
 "ownershipBasedAccessControlForRasters": null,
 "allowComputeTiePoints": false,
 "useStandardizedQueries": true,
 "advancedQueryCapabilities": {
  "useStandardizedQueries": true,
  "supportsStatistics": false,
  "supportsOrderBy": false,
  "supportsDistinct": false,
  "supportsPagination": false
 },
 "spatialReference": {
  "wkt": "PROJCS[\"NAD_1983_2011_Washington_North_ftUS\",GEOGCS[\"GCS_NAD83_2011\",DATUM[\"D_NAD_1983_2011\",SPHEROID[\"GRS_1980\",6378137.0,298.257222101]],PRIMEM[\"Greenwich\",0.0],UNIT[\"Degree\",0.0174532925199433]],PROJECTION[\"Lambert_Conformal_Conic\"],PARAMETER[\"false_easting\",1640416.667],PARAMETER[\"false_northing\",0.0],PARAMETER[\"central_meridian\",-120.8333333333333],PARAMETER[\"standard_parallel_1\",47.5],PARAMETER[\"standard_parallel_2\",48.73333333333333],PARAMETER[\"latitude_of_origin\",47.0],UNIT[\"Foot_US\",0.3048006096012192]]"
 }
}
