{
 "currentVersion": 10.41,
 "serviceDescription": "9-inch resolution 2019 aerial imagery collected by Pictometry",
 "name": "Services/Aerial_Photo_2019_Skagit_9inch",
 "description": "9-inch resolution 2019 aerial imagery collected by Pictometry",
 "extent": {
  "xmin": 1176696.75,
  "ymin": 463709.25,
  "xmax": 1543037.25,
  "ymax": 630058.5,
  "spatialReference": {
   "wkt": "PROJCS[\"NAD_1983_2011_Washington_North_ftUS\",GEOGCS[\"GCS_NAD83_2011\",DATUM[\"D_NAD_1983_2011\",SPHEROID[\"GRS_1980\",6378137.0,298.257222101]],PRIMEM[\"Greenwich\",0.0],UNIT[\"Degree\",0.0174532925199433]],PROJECTION[\"Lambert_Conformal_Conic\"],PARAMETER[\"false_easting\",1640416.667],PARAMETER[\"false_northing\",0.0],PARAMETER[\"central_meridian\",-120.8333333333333],PARAMETER[\"standard_parallel_1\",47.5],PARAMETER[\"standard_parallel_2\",48.73333333333333],PARAMETER[\"latitude_of_origin\",47.0],UNIT[\"Foot_US\",0.3048006096012192]]"
  }
 },
 "initialExtent": {
  "xmin": 1176696.75,
  "ymin": 463709.25,
  "xmax": 1543037.25,
  "ymax": 630058.5,
  "spatialReference": {
   "wkt": "PROJCS[\"NAD_1983_2011_Washington_North_ftUS\",GEOGCS[\"GCS_NAD83_2011\",DATUM[\"D_NAD_1983_2011\",SPHEROID[\"GRS_1980\",6378137.0,298.257222101]],PRIMEM[\"Greenwich\",0.0],UNIT[\"Degree\",0.0174532925199433]],PROJECTION[\"Lambert_Conformal_Conic\"],PARAMETER[\"false_easting\",1640416.667],PARAMETER[\"false_northing\",0.0],PARAMETER[\"central_meridian\",-120.8333333333333],PARAMETER[\"standard_parallel_1\",47.5],PARAMETER[\"standard_parallel_2\",48.73333333333333],PARAMETER[\"latitude_of_origin\",47.0],UNIT[\"Foot_US\",0.3048006096012192]]"
  }
 },
 "fullExtent": {
  "xmin": 1176696.75,
  "ymin": 463709.25,
  "xmax": 1543037.25,
  "ymax": 630058.5,
  "spatialReference": {
   "wkt": "PROJCS[\"NAD_1983_2011_Washington_North_ftUS\",GEOGCS[\"GCS_NAD83_2011\",DATUM[\"D_NAD_1983_2011\",SPHEROID[\"GRS_1980\",6378137.0,298.257222101]],PRIMEM[\"Greenwich\",0.0],UNIT[\"Degree\",0.0174532925199433]],PROJECTION[\"Lambert_Conformal_Conic\"],PARAMETER[\"false_easting\",1640416.667],PARAMETER[\"false_northing\",0.0],PARAMETER[\"central_meridian\",-120.8333333333333],PARAMETER[\"standard_parallel_1\",47.5],PARAMETER[\"standard_parallel_2\",48.73333333333333],PARAMETER[\"latitude_of_origin\",47.0],UNIT[\"Foot_US\",0.3048006096012192]]"
  }
 },
 "pixelSizeX": 0.75,
 "pixelSizeY": 0.75,
 "bandCount": 4,
 "pixelType": "U8",
 "minPixelSize": 0,
 "maxPixelSize": 0,
 "copyrightText": "",
 "serviceDataType": "esriImageServiceDataTypeGeneric",
 "minValues": [
  0,
  0,
  0,
  0
 ],
 "maxValues": [
  222,
  208,
  198,
  255
 ],
 "meanValues": [
  45.127727272727,
  52.141060606061,
  46.24,
  107.62742424242
 ],
 "stdvValues": [
  55.267760515607,
  61.186634102674,
  54.375880125235,
  123.48486647323
 ],
 "objectIdField": "",
 "fields": [],
 "capabilities": "Mensuration,Image,Metadata",
 "defaultMosaicMethod": "Center",
 "allowedMosaicMethods": "",
 "sortField": "",
 "sortValue": null,
 "mosaicOperator": "First",
 "defaultCompressionQuality": 75,
 "defaultResamplingMethod": "Bilinear",
 "maxImageHeight": 4100,
 "maxImageWidth": 15000,
 "allowRasterFunction": true,
 "rasterFunctionInfos": [],
 "rasterTypeInfos": [
  {
   "name": "Raster Dataset",
   "description": "Supports all ArcGIS Raster Datasets",
   "help": ""
  }
 ],
 "mensurationCapabilities": "Basic",
 "hasHistograms": true,
 "hasColormap": false,
 "hasRasterAttributeTable": false,
 "minScale": 0,
 "maxScale": 0,
 "exportTilesAllowed": false,
 "hasMultidimensions": false,
 "supportsStatistics": false,
 "supportsAdvancedQueries": false,
 "editFieldsInfo": null,
 "ownershipBasedAccessControlForRasters": null,
 "allowComputeTiePoints": false,
 "useStandardizedQueries": true,
 "advancedQueryCapabilities": {
  "useStandardizedQueries": true,
  "supportsStatistics": false,
  "supportsOrderBy": false,
  "supportsDistinct": false,
  "supportsPagination": false
 },
 "spatialReference": {
  "wkt": "PROJCS[\"NAD_1983_2011_Washington_North_ftUS\",GEOGCS[\"GCS_NAD83_2011\",DATUM[\"D_NAD_1983_2011\",SPHEROID[\"GRS_1980\",6378137.0,298.257222101]],PRIMEM[\"Greenwich\",0.0],UNIT[\"Degree\",0.0174532925199433]],PROJECTION[\"Lambert_Conformal_Conic\"],PARAMETER[\"false_easting\",1640416.667],PARAMETER[\"false_northing\",0.0],PARAMETER[\"central_meridian\",-120.8333333333333],PARAMETER[\"standard_parallel_1\",47.5],PARAMETER[\"standard_parallel_2\",48.73333333333333],PARAMETER[\"latitude_of_origin\",47.0],UNIT[\"Foot_US\",0.3048006096012192]]"
 }
}
