{
 "currentVersion": 10.41,
 "serviceDescription": "Services/SkagitCounty2013",
 "name": "Services/SkagitCounty2013",
 "description": "Services/SkagitCounty2013",
 "extent": {
  "xmin": 1176565,
  "ymin": 463709,
  "xmax": 1543037,
  "ymax": 630058,
  "spatialReference": {
   "wkt": "PROJCS[\"NAD_1983_Washington_North_ftUS\",GEOGCS[\"GCS_North_American_1983\",DATUM[\"D_North_American_1983\",SPHEROID[\"GRS_1980\",6378137.0,298.257222101]],PRIMEM[\"Greenwich\",0.0],UNIT[\"Degree\",0.0174532925199433]],PROJECTION[\"Lambert_Conformal_Conic\"],PARAMETER[\"false_easting\",1640416.667],PARAMETER[\"false_northing\",0.0],PARAMETER[\"central_meridian\",-120.8333333333333],PARAMETER[\"standard_parallel_1\",47.5],PARAMETER[\"standard_parallel_2\",48.73333333333333],PARAMETER[\"latitude_of_origin\",47.0],UNIT[\"Foot_US\",0.3048006096012192]]"
  }
 },
 "initialExtent": {
  "xmin": 1176565,
  "ymin": 463709,
  "xmax": 1543037,
  "ymax": 630058,
  "spatialReference": {
   "wkt": "PROJCS[\"NAD_1983_Washington_North_ftUS\",GEOGCS[\"GCS_North_American_1983\",DATUM[\"D_North_American_1983\",SPHEROID[\"GRS_1980\",6378137.0,298.257222101]],PRIMEM[\"Greenwich\",0.0],UNIT[\"Degree\",0.0174532925199433]],PROJECTION[\"Lambert_Conformal_Conic\"],PARAMETER[\"false_easting\",1640416.667],PARAMETER[\"false_northing\",0.0],PARAMETER[\"central_meridian\",-120.8333333333333],PARAMETER[\"standard_parallel_1\",47.5],PARAMETER[\"standard_parallel_2\",48.73333333333333],PARAMETER[\"latitude_of_origin\",47.0],UNIT[\"Foot_US\",0.3048006096012192]]"
  }
 },
 "fullExtent": {
  "xmin": 1176565,
  "ymin": 463709,
  "xmax": 1543037,
  "ymax": 630058,
  "spatialReference": {
   "wkt": "PROJCS[\"NAD_1983_Washington_North_ftUS\",GEOGCS[\"GCS_North_American_1983\",DATUM[\"D_North_American_1983\",SPHEROID[\"GRS_1980\",6378137.0,298.257222101]],PRIMEM[\"Greenwich\",0.0],UNIT[\"Degree\",0.0174532925199433]],PROJECTION[\"Lambert_Conformal_Conic\"],PARAMETER[\"false_easting\",1640416.667],PARAMETER[\"false_northing\",0.0],PARAMETER[\"central_meridian\",-120.8333333333333],PARAMETER[\"standard_parallel_1\",47.5],PARAMETER[\"standard_parallel_2\",48.73333333333333],PARAMETER[\"latitude_of_origin\",47.0],UNIT[\"Foot_US\",0.3048006096012192]]"
  }
 },
 "pixelSizeX": 1,
 "pixelSizeY": 1,
 "bandCount": 3,
 "pixelType": "U8",
 "minPixelSize": 0,
 "maxPixelSize": 0,
 "copyrightText": "",
 "serviceDataType": "esriImageServiceDataTypeRGB",
 "minValues": [
  0,
  0,
  0
 ],
 "maxValues": [
  213,
  194,
  190
 ],
 "meanValues": [
  40.009756097561,
  48.418157181572,
  48.086991869919
 ],
 "stdvValues": [
  47.712320080608,
  54.589504792225,
  53.851887299777
 ],
 "objectIdField": "",
 "fields": [],
 "capabilities": "Image,Metadata,Mensuration",
 "defaultMosaicMethod": "Center",
 "allowedMosaicMethods": "",
 "sortField": "",
 "sortValue": null,
 "mosaicOperator": "First",
 "defaultCompressionQuality": 75,
 "defaultResamplingMethod": "Bilinear",
 "maxImageHeight": 4100,
 "maxImageWidth": 15000,
 "allowRasterFunction": true,
 "rasterFunctionInfos": [],
 "rasterTypeInfos": [
  {
   "name": "Raster Dataset",
   "description": "Supports all ArcGIS Raster Datasets",
   "help": ""
  }
 ],
 "mensurationCapabilities": "Basic",
 "hasHistograms": true,
 "hasColormap": false,
 "hasRasterAttributeTable": false,
 "minScale": 0,
 "maxScale": 0,
 "exportTilesAllowed": false,
 "hasMultidimensions": false,
 "supportsStatistics": false,
 "supportsAdvancedQueries": false,
 "editFieldsInfo": null,
 "ownershipBasedAccessControlForRasters": null,
 "allowComputeTiePoints": false,
 "useStandardizedQueries": true,
 "advancedQueryCapabilities": {
  "useStandardizedQueries": true,
  "supportsStatistics": false,
  "supportsOrderBy": false,
  "supportsDistinct": false,
  "supportsPagination": false
 },
 "spatialReference": {
  "wkt": "PROJCS[\"NAD_1983_Washington_North_ftUS\",GEOGCS[\"GCS_North_American_1983\",DATUM[\"D_North_American_1983\",SPHEROID[\"GRS_1980\",6378137.0,298.257222101]],PRIMEM[\"Greenwich\",0.0],UNIT[\"Degree\",0.0174532925199433]],PROJECTION[\"Lambert_Conformal_Conic\"],PARAMETER[\"false_easting\",1640416.667],PARAMETER[\"false_northing\",0.0],PARAMETER[\"central_meridian\",-120.8333333333333],PARAMETER[\"standard_parallel_1\",47.5],PARAMETER[\"standard_parallel_2\",48.73333333333333],PARAMETER[\"latitude_of_origin\",47.0],UNIT[\"Foot_US\",0.3048006096012192]]"
 }
}
