View In:
ArcGIS JavaScript
ArcGIS Online map viewer
Google Earth
ArcMap
View Footprint In:
ArcGIS Online map viewer
Service Description: Services/Aerial_Photo_2015_Skaigt_12inch
Name: Services/Aerial_Photo_2015_Skaigt_12inch
Description: Services/Aerial_Photo_2015_Skaigt_12inch
Single Fused Map Cache: false
Extent:
XMin: 1176565.1166
YMin: 463709.3545
XMax: 1543037.1166
YMax: 630058.3545
Spatial Reference: PROJCS["NAD_1983_Washington_North_ftUS",GEOGCS["GCS_North_American_1983",DATUM["D_North_American_1983",SPHEROID["GRS_1980",6378137.0,298.257222101]],PRIMEM["Greenwich",0.0],UNIT["Degree",0.0174532925199433]],PROJECTION["Lambert_Conformal_Conic"],PARAMETER["false_easting",1640416.667],PARAMETER["false_northing",0.0],PARAMETER["central_meridian",-120.8333333333333],PARAMETER["standard_parallel_1",47.5],PARAMETER["standard_parallel_2",48.73333333333333],PARAMETER["latitude_of_origin",47.0],UNIT["Foot_US",0.3048006096012192]]
Initial Extent:
XMin: 1176565.1166
YMin: 463709.3545
XMax: 1543037.1166
YMax: 630058.3545
Spatial Reference: PROJCS["NAD_1983_Washington_North_ftUS",GEOGCS["GCS_North_American_1983",DATUM["D_North_American_1983",SPHEROID["GRS_1980",6378137.0,298.257222101]],PRIMEM["Greenwich",0.0],UNIT["Degree",0.0174532925199433]],PROJECTION["Lambert_Conformal_Conic"],PARAMETER["false_easting",1640416.667],PARAMETER["false_northing",0.0],PARAMETER["central_meridian",-120.8333333333333],PARAMETER["standard_parallel_1",47.5],PARAMETER["standard_parallel_2",48.73333333333333],PARAMETER["latitude_of_origin",47.0],UNIT["Foot_US",0.3048006096012192]]
Full Extent:
XMin: 1176565.1166
YMin: 463709.3545
XMax: 1543037.1166
YMax: 630058.3545
Spatial Reference: PROJCS["NAD_1983_Washington_North_ftUS",GEOGCS["GCS_North_American_1983",DATUM["D_North_American_1983",SPHEROID["GRS_1980",6378137.0,298.257222101]],PRIMEM["Greenwich",0.0],UNIT["Degree",0.0174532925199433]],PROJECTION["Lambert_Conformal_Conic"],PARAMETER["false_easting",1640416.667],PARAMETER["false_northing",0.0],PARAMETER["central_meridian",-120.8333333333333],PARAMETER["standard_parallel_1",47.5],PARAMETER["standard_parallel_2",48.73333333333333],PARAMETER["latitude_of_origin",47.0],UNIT["Foot_US",0.3048006096012192]]
Pixel Size X: 1.0
Pixel Size Y: 1.0
Band Count: 4
Pixel Type: U8
RasterFunction Infos: N/A
Mensuration Capabilities: Basic
Has Histograms: true
Has Colormap: false
Has Multi Dimensions : false
Rendering Rule:
Min Scale: 0
Max Scale: 0
Copyright Text:
Service Data Type: esriImageServiceDataTypeGeneric
Min Values: 0, 0, 0, 0
Max Values: 216, 205, 185, 255
Mean Values: 46.515176151762, 52.90487804878, 49.378048780488, 113.59972899728997
Standard Deviation Values: 54.279867080036, 59.168785287146, 54.728904740356, 123.75207074419683
Object ID Field:
Fields:
None
Default Mosaic Method: Center
Allowed Mosaic Methods:
SortField:
SortValue: null
Mosaic Operator: First
Default Compression Quality: 75
Default Resampling Method: Bilinear
Max Record Count: null
Max Image Height: 4100
Max Image Width: 15000
Max Download Image Count: null
Max Mosaic Image Count: null
Allow Raster Function: true
Allow Compute TiePoints: false
Supports Statistics: false
Supports Advanced Queries: false
Use StandardizedQueries: true
Raster Type Infos:
Name: Raster Dataset
Description: Supports all ArcGIS Raster Datasets
Help:
Has Raster Attribute Table: false
Edit Fields Info: null
Ownership Based AccessControl For Rasters: null
Child Resources:
Info
Histograms
Key Properties
Legend
MultiDimensionalInfo
rasterFunctionInfos
Supported Operations:
Export Image
Identify
Measure
Compute Histograms
Compute Statistics Histograms
Get Samples
Compute Class Statistics