View In:
ArcGIS JavaScript
ArcGIS Online map viewer
Google Earth
ArcMap
View Footprint In:
ArcGIS Online map viewer
Service Description: The dataset consists of tiled orthogonal imagery produced from nadir images captured by Pictometry International.
3-inch resolution 2021 aerial imagery.
Name: Services/Aerial_Photo_2021_Spring
Description: The dataset consists of tiled orthogonal imagery produced from nadir images captured by Pictometry International.
3-inch resolution 2021 aerial imagery.
Single Fused Map Cache: false
Extent:
XMin: 1187255.9999998666
YMin: 500664.24999474885
XMax: 1313975.7499998666
YMax: 564023.9999947489
Spatial Reference: PROJCS["NAD_1983_2011_Washington_North_ftUS",GEOGCS["GCS_NAD83_2011",DATUM["D_NAD_1983_2011",SPHEROID["GRS_1980",6378137.0,298.257222101]],PRIMEM["Greenwich",0.0],UNIT["Degree",0.0174532925199433]],PROJECTION["Lambert_Conformal_Conic"],PARAMETER["false_easting",1640416.667],PARAMETER["false_northing",0.0],PARAMETER["central_meridian",-120.8333333333333],PARAMETER["standard_parallel_1",47.5],PARAMETER["standard_parallel_2",48.73333333333333],PARAMETER["latitude_of_origin",47.0],UNIT["Foot_US",0.3048006096012192]]
Initial Extent:
XMin: 1187255.9999998666
YMin: 500664.24999474885
XMax: 1313975.7499998666
YMax: 564023.9999947489
Spatial Reference: PROJCS["NAD_1983_2011_Washington_North_ftUS",GEOGCS["GCS_NAD83_2011",DATUM["D_NAD_1983_2011",SPHEROID["GRS_1980",6378137.0,298.257222101]],PRIMEM["Greenwich",0.0],UNIT["Degree",0.0174532925199433]],PROJECTION["Lambert_Conformal_Conic"],PARAMETER["false_easting",1640416.667],PARAMETER["false_northing",0.0],PARAMETER["central_meridian",-120.8333333333333],PARAMETER["standard_parallel_1",47.5],PARAMETER["standard_parallel_2",48.73333333333333],PARAMETER["latitude_of_origin",47.0],UNIT["Foot_US",0.3048006096012192]]
Full Extent:
XMin: 1187255.9999998666
YMin: 500664.24999474885
XMax: 1313975.7499998666
YMax: 564023.9999947489
Spatial Reference: PROJCS["NAD_1983_2011_Washington_North_ftUS",GEOGCS["GCS_NAD83_2011",DATUM["D_NAD_1983_2011",SPHEROID["GRS_1980",6378137.0,298.257222101]],PRIMEM["Greenwich",0.0],UNIT["Degree",0.0174532925199433]],PROJECTION["Lambert_Conformal_Conic"],PARAMETER["false_easting",1640416.667],PARAMETER["false_northing",0.0],PARAMETER["central_meridian",-120.8333333333333],PARAMETER["standard_parallel_1",47.5],PARAMETER["standard_parallel_2",48.73333333333333],PARAMETER["latitude_of_origin",47.0],UNIT["Foot_US",0.3048006096012192]]
Pixel Size X: 0.25
Pixel Size Y: 0.25
Band Count: 4
Pixel Type: U8
RasterFunction Infos: N/A
Mensuration Capabilities: Basic
Has Histograms: true
Has Colormap: false
Has Multi Dimensions : false
Rendering Rule:
Min Scale: 0
Max Scale: 0
Copyright Text: Pictometry International (EagleView) 2021
Service Data Type: esriImageServiceDataTypeGeneric
Min Values: 0, 0, 0, 0
Max Values: 244, 221, 190, 255
Mean Values: 53.94237773153, 53.197970863684, 40.686004162331, 109.09846514048
Standard Deviation Values: 65.099553028758, 62.801997423473, 48.550192890604, 124.82061554183
Object ID Field:
Fields:
None
Default Mosaic Method: Center
Allowed Mosaic Methods:
SortField:
SortValue: null
Mosaic Operator: First
Default Compression Quality: 75
Default Resampling Method: Bilinear
Max Record Count: null
Max Image Height: 4100
Max Image Width: 15000
Max Download Image Count: null
Max Mosaic Image Count: null
Allow Raster Function: true
Allow Compute TiePoints: false
Supports Statistics: false
Supports Advanced Queries: false
Use StandardizedQueries: true
Raster Type Infos:
Name: Raster Dataset
Description: Supports all ArcGIS Raster Datasets
Help:
Has Raster Attribute Table: false
Edit Fields Info: null
Ownership Based AccessControl For Rasters: null
Child Resources:
Info
Histograms
Key Properties
Legend
MultiDimensionalInfo
rasterFunctionInfos
Supported Operations:
Export Image
Identify
Measure
Compute Histograms
Compute Statistics Histograms
Get Samples
Compute Class Statistics