View In:
ArcGIS JavaScript
ArcGIS Online map viewer
Google Earth
ArcMap
View Footprint In:
ArcGIS Online map viewer
Service Description: Services/MountVernon2000
Name: Services/MountVernon2000
Description: Services/MountVernon2000
Single Fused Map Cache: false
Extent:
XMin: 1623572.0905040908
YMin: 504999.3963748738
XMax: 1659570.0905040908
YMax: 537999.3963748738
Spatial Reference: 32048
(32048)
Initial Extent:
XMin: 1623572.0905040908
YMin: 504999.3963748738
XMax: 1659570.0905040908
YMax: 537999.3963748738
Spatial Reference: 32048
(32048)
Full Extent:
XMin: 1623572.0905040908
YMin: 504999.3963748738
XMax: 1659570.0905040908
YMax: 537999.3963748738
Spatial Reference: 32048
(32048)
Pixel Size X: 0.5
Pixel Size Y: 0.5
Band Count: 3
Pixel Type: U8
RasterFunction Infos: N/A
Mensuration Capabilities: Basic
Has Histograms: true
Has Colormap: false
Has Multi Dimensions : false
Rendering Rule:
Min Scale: 0
Max Scale: 0
Copyright Text:
Service Data Type: esriImageServiceDataTypeRGB
Min Values: 0, 0, 0
Max Values: 224, 219, 214
Mean Values: 90.631645500027, 91.087910275441, 75.186596294464
Standard Deviation Values: 66.374592764654, 66.100152933218, 55.085742117818
Object ID Field:
Fields:
None
Default Mosaic Method: Center
Allowed Mosaic Methods:
SortField:
SortValue: null
Mosaic Operator: First
Default Compression Quality: 75
Default Resampling Method: Bilinear
Max Record Count: null
Max Image Height: 4100
Max Image Width: 15000
Max Download Image Count: null
Max Mosaic Image Count: null
Allow Raster Function: true
Allow Compute TiePoints: false
Supports Statistics: false
Supports Advanced Queries: false
Use StandardizedQueries: true
Raster Type Infos:
Name: Raster Dataset
Description: Supports all ArcGIS Raster Datasets
Help:
Has Raster Attribute Table: false
Edit Fields Info: null
Ownership Based AccessControl For Rasters: null
Child Resources:
Info
Histograms
Key Properties
Legend
MultiDimensionalInfo
rasterFunctionInfos
Supported Operations:
Export Image
Identify
Measure
Compute Histograms
Compute Statistics Histograms
Get Samples
Compute Class Statistics