View In:
ArcGIS JavaScript
ArcGIS Online map viewer
Google Earth
ArcMap
View Footprint In:
ArcGIS Online map viewer
Service Description: Services/Aerial_Photo_2017_Skagit_4inch
Name: Services/Aerial_Photo_2017_Skagit_4inch
Description: Services/Aerial_Photo_2017_Skagit_4inch
Single Fused Map Cache: false
Extent:
XMin: 1186792.6666666649
YMin: 499851.667320735
XMax: 1314538.3320558749
YMax: 565258.999999995
Spatial Reference: PROJCS["NAD_1983_Washington_North_ftUS",GEOGCS["GCS_North_American_1983",DATUM["D_North_American_1983",SPHEROID["GRS_1980",6378137.0,298.257222101]],PRIMEM["Greenwich",0.0],UNIT["Degree",0.0174532925199433]],PROJECTION["Lambert_Conformal_Conic"],PARAMETER["false_easting",1640416.667],PARAMETER["false_northing",0.0],PARAMETER["central_meridian",-120.8333333333333],PARAMETER["standard_parallel_1",47.5],PARAMETER["standard_parallel_2",48.73333333333333],PARAMETER["latitude_of_origin",47.0],UNIT["Foot_US",0.3048006096012192]]
Initial Extent:
XMin: 1186792.6666666649
YMin: 499851.667320735
XMax: 1314538.3320558749
YMax: 565258.999999995
Spatial Reference: PROJCS["NAD_1983_Washington_North_ftUS",GEOGCS["GCS_North_American_1983",DATUM["D_North_American_1983",SPHEROID["GRS_1980",6378137.0,298.257222101]],PRIMEM["Greenwich",0.0],UNIT["Degree",0.0174532925199433]],PROJECTION["Lambert_Conformal_Conic"],PARAMETER["false_easting",1640416.667],PARAMETER["false_northing",0.0],PARAMETER["central_meridian",-120.8333333333333],PARAMETER["standard_parallel_1",47.5],PARAMETER["standard_parallel_2",48.73333333333333],PARAMETER["latitude_of_origin",47.0],UNIT["Foot_US",0.3048006096012192]]
Full Extent:
XMin: 1186792.6666666649
YMin: 499851.667320735
XMax: 1314538.3320558749
YMax: 565258.999999995
Spatial Reference: PROJCS["NAD_1983_Washington_North_ftUS",GEOGCS["GCS_North_American_1983",DATUM["D_North_American_1983",SPHEROID["GRS_1980",6378137.0,298.257222101]],PRIMEM["Greenwich",0.0],UNIT["Degree",0.0174532925199433]],PROJECTION["Lambert_Conformal_Conic"],PARAMETER["false_easting",1640416.667],PARAMETER["false_northing",0.0],PARAMETER["central_meridian",-120.8333333333333],PARAMETER["standard_parallel_1",47.5],PARAMETER["standard_parallel_2",48.73333333333333],PARAMETER["latitude_of_origin",47.0],UNIT["Foot_US",0.3048006096012192]]
Pixel Size X: 0.33333333
Pixel Size Y: 0.33333333
Band Count: 4
Pixel Type: U8
RasterFunction Infos: N/A
Mensuration Capabilities: Basic
Has Histograms: true
Has Colormap: false
Has Multi Dimensions : false
Rendering Rule:
Min Scale: 0
Max Scale: 0
Copyright Text:
Service Data Type: esriImageServiceDataTypeGeneric
Min Values: 0, 0, 0, 0
Max Values: 248, 231, 183, 255
Mean Values: 52.996675531914896, 55.358377659574465, 39.41422872340426, 110.7019060283688
Standard Deviation Values: 62.55610061987172, 63.81853412389399, 46.70509469253291, 124.17939870905698
Object ID Field:
Fields:
None
Default Mosaic Method: Center
Allowed Mosaic Methods:
SortField:
SortValue: null
Mosaic Operator: First
Default Compression Quality: 75
Default Resampling Method: Bilinear
Max Record Count: null
Max Image Height: 4100
Max Image Width: 15000
Max Download Image Count: null
Max Mosaic Image Count: null
Allow Raster Function: true
Allow Compute TiePoints: false
Supports Statistics: false
Supports Advanced Queries: false
Use StandardizedQueries: true
Raster Type Infos:
Name: Raster Dataset
Description: Supports all ArcGIS Raster Datasets
Help:
Has Raster Attribute Table: false
Edit Fields Info: null
Ownership Based AccessControl For Rasters: null
Child Resources:
Info
Histograms
Key Properties
Legend
MultiDimensionalInfo
rasterFunctionInfos
Supported Operations:
Export Image
Identify
Measure
Compute Histograms
Compute Statistics Histograms
Get Samples
Compute Class Statistics